BEGIN:VCALENDAR
VERSION:2.0
PRODID:-//eventon.com NONSGML v1.0//EN
CALSCALE:GREGORIAN
METHOD:PUBLISH
BEGIN:VEVENT
UID:69e75ea043e1e
DTSTAMP:20260421T112520Z
DTSTART:20260504T170000Z
DTEND:20260504T235900Z
LOCATION:
SUMMARY:Gedenken an die Opfer von Zwangsarbeit
DESCRIPTION:Gedenken an die Opfer von Zwangsarbeit unter dem Nazi-RegimeEnt
 hüllung von Erinnerungstafeln an die verstorbenen Kinder der Bergedorfer Z
 wangsarbeiterinnen Ort: Mahnmal am Kampdeich Veranstalter: AG Gedenken des 
 Rathausbündnisses gegen Rechtsextremismus\nhttps://serrahneins.de/events/g
 edenken-an-die-opfer-von-zwangsarbeit/
URL:https://serrahneins.de/events/gedenken-an-die-opfer-von-zwangsarbeit/
END:VEVENT
END:VCALENDAR