BEGIN:VCALENDAR
VERSION:2.0
PRODID:-//eventon.com NONSGML v1.0//EN
CALSCALE:GREGORIAN
METHOD:PUBLISH
BEGIN:VEVENT
UID:69e6392fb566c
DTSTAMP:20260420T143319Z
DTSTART:20260530T110000Z
DTEND:20260530T235900Z
LOCATION:
SUMMARY:Bergedorfer Kranmarkt
DESCRIPTION:11.00 bis 16.00 Uhr Speisen und Getränke vor dem Haus\nhttps:/
 /serrahneins.de/events/bergedorfer-kranmarkt/
URL:https://serrahneins.de/events/bergedorfer-kranmarkt/
END:VEVENT
END:VCALENDAR