BEGIN:VCALENDAR
VERSION:2.0
PRODID:-//eventon.com NONSGML v1.0//EN
CALSCALE:GREGORIAN
METHOD:PUBLISH
BEGIN:VEVENT
UID:69e638225cf35
DTSTAMP:20260420T142850Z
DTSTART:20260913T170000Z
DTEND:20260913T235900Z
LOCATION:
SUMMARY:Brasilianische Reise
DESCRIPTION:\nhttps://serrahneins.de/events/brasilianische-reise/
URL:https://serrahneins.de/events/brasilianische-reise/
END:VEVENT
END:VCALENDAR