BEGIN:VCALENDAR
VERSION:2.0
PRODID:-//eventon.com NONSGML v1.0//EN
CALSCALE:GREGORIAN
METHOD:PUBLISH
BEGIN:VEVENT
UID:69e61d191caad
DTSTAMP:20260420T123329Z
DTSTART:20260609T193000Z
DTEND:20260609T235900Z
LOCATION:
SUMMARY:Ärzte ohne Grenzen
DESCRIPTION:\nhttps://serrahneins.de/events/aerzte-ohne-grenzen/
URL:https://serrahneins.de/events/aerzte-ohne-grenzen/
END:VEVENT
END:VCALENDAR