BEGIN:VCALENDAR
VERSION:2.0
PRODID:-//eventon.com NONSGML v1.0//EN
CALSCALE:GREGORIAN
METHOD:PUBLISH
BEGIN:VEVENT
UID:69e61c524fee9
DTSTAMP:20260420T123010Z
DTSTART:20260607T170000Z
DTEND:20260607T235900Z
LOCATION:
SUMMARY:Hanna Mittelstädt: Blu - Lovestory
DESCRIPTION:Hamburger Autor*innen lesen\,  in Kooperation mit dem Kulturzen
 trum Hamburg &nbsp;„Als erstes fallen seine Augen auf\,  sie haben etwas 
 von einem großen sibirischen Sommerhimmel\,  glasklar und doch sehr blau. 
 Auf eine gewisse Art tief und weit\,  transparent und kalt.“ Beim ersten 
 Blick in die Augen verzaubert er sie. Blu\,  ein Musiker\, [..]\nhttps://se
 rrahneins.de/events/lesung/
URL:https://serrahneins.de/events/lesung/
END:VEVENT
END:VCALENDAR