BEGIN:VCALENDAR
VERSION:2.0
PRODID:-//eventon.com NONSGML v1.0//EN
CALSCALE:GREGORIAN
METHOD:PUBLISH
BEGIN:VEVENT
UID:69e7399383c74
DTSTAMP:20260421T084715Z
DTSTART:20260421T190000Z
DTEND:20260421T235900Z
LOCATION:
SUMMARY:Wehrpflicht
DESCRIPTION:Muss ich jetzt zum Bund?\nhttps://serrahneins.de/events/wehrpfl
 icht/
URL:https://serrahneins.de/events/wehrpflicht/
END:VEVENT
END:VCALENDAR