BEGIN:VCALENDAR
VERSION:2.0
PRODID:-//eventon.com NONSGML v1.0//EN
CALSCALE:GREGORIAN
METHOD:PUBLISH
BEGIN:VEVENT
UID:69e73a210e19d
DTSTAMP:20260421T084937Z
DTSTART:20261213T140000Z
DTEND:20261213T153000Z
LOCATION:SerrahnEINS Serrahnstraße 1 · 21029 Bergedorf
SUMMARY:Musik für Minis
DESCRIPTION:Wenn der Frühling klingt\,  der Sommer tanzt\,  der Herbst ras
 chelt undder Winter leise glitzert…Ein monatliches Mitmach-Konzert für K
 inder von 1\, 5 bis 5 Jahrenund ihre Eltern.Die Musikerin Christina Schäfe
 r begleitet an Gitarre und Klavier undihr singt\,  tanzt und spielt auf ver
 schiedenen Instrumenten mit!Wir tauchen gemeinsam in die Klänge der Jahres
 zeiten ein[..]\nhttps://serrahneins.de/events/musik-fuer-minis-10/
URL:https://serrahneins.de/events/musik-fuer-minis-10/
END:VEVENT
END:VCALENDAR